BEGIN:VCALENDAR
VERSION:2.0
PRODID:-//LHPSSA - ECPv6.15.20//NONSGML v1.0//EN
CALSCALE:GREGORIAN
METHOD:PUBLISH
X-WR-CALNAME:LHPSSA
X-ORIGINAL-URL:https://lhpssa.org
X-WR-CALDESC:Events for LHPSSA
REFRESH-INTERVAL;VALUE=DURATION:PT1H
X-Robots-Tag:noindex
X-PUBLISHED-TTL:PT1H
BEGIN:VTIMEZONE
TZID:America/New_York
BEGIN:DAYLIGHT
TZOFFSETFROM:-0500
TZOFFSETTO:-0400
TZNAME:EDT
DTSTART:20250309T070000
END:DAYLIGHT
BEGIN:STANDARD
TZOFFSETFROM:-0400
TZOFFSETTO:-0500
TZNAME:EST
DTSTART:20251102T060000
END:STANDARD
BEGIN:DAYLIGHT
TZOFFSETFROM:-0500
TZOFFSETTO:-0400
TZNAME:EDT
DTSTART:20260308T070000
END:DAYLIGHT
BEGIN:STANDARD
TZOFFSETFROM:-0400
TZOFFSETTO:-0500
TZNAME:EST
DTSTART:20261101T060000
END:STANDARD
BEGIN:DAYLIGHT
TZOFFSETFROM:-0500
TZOFFSETTO:-0400
TZNAME:EDT
DTSTART:20270314T070000
END:DAYLIGHT
BEGIN:STANDARD
TZOFFSETFROM:-0400
TZOFFSETTO:-0500
TZNAME:EST
DTSTART:20271107T060000
END:STANDARD
END:VTIMEZONE
BEGIN:VEVENT
DTSTART;TZID=America/New_York:20261007T180000
DTEND;TZID=America/New_York:20261007T200000
DTSTAMP:20260424T230157
CREATED:20260205T210648Z
LAST-MODIFIED:20260424T061028Z
UID:7212-1791396000-1791403200@lhpssa.org
SUMMARY:LHPSSA Board Meeting
DESCRIPTION:
URL:https://lhpssa.org/event/lhpssa-board-meeting-8/
END:VEVENT
BEGIN:VEVENT
DTSTART;VALUE=DATE:20261012
DTEND;VALUE=DATE:20261017
DTSTAMP:20260424T230157
CREATED:20260205T210648Z
LAST-MODIFIED:20260424T061028Z
UID:7213-1791763200-1792195199@lhpssa.org
SUMMARY:LHPSSA Pacific Fins Trip (Week 1)
DESCRIPTION:
URL:https://lhpssa.org/event/lhpssa-pacific-fins-trip-week-1/
END:VEVENT
BEGIN:VEVENT
DTSTART;TZID=America/New_York:20261014T180000
DTEND;TZID=America/New_York:20261014T200000
DTSTAMP:20260424T230157
CREATED:20260205T210648Z
LAST-MODIFIED:20260424T061028Z
UID:7214-1792000800-1792008000@lhpssa.org
SUMMARY:LHPSSA Happy Hour
DESCRIPTION:
URL:https://lhpssa.org/event/lhpssa-happy-hour-8/
END:VEVENT
BEGIN:VEVENT
DTSTART;VALUE=DATE:20261016
DTEND;VALUE=DATE:20261021
DTSTAMP:20260424T230157
CREATED:20260205T210648Z
LAST-MODIFIED:20260424T061028Z
UID:7215-1792108800-1792540799@lhpssa.org
SUMMARY:LHPSSA Pacific Fins Trip (Week 2)
DESCRIPTION:
URL:https://lhpssa.org/event/lhpssa-pacific-fins-trip-week-2/
END:VEVENT
BEGIN:VEVENT
DTSTART;TZID=America/New_York:20261028T180000
DTEND;TZID=America/New_York:20261028T210000
DTSTAMP:20260424T230157
CREATED:20260205T210648Z
LAST-MODIFIED:20260424T061028Z
UID:7216-1793210400-1793221200@lhpssa.org
SUMMARY:LHPSSA Membership Meeting
DESCRIPTION:
URL:https://lhpssa.org/event/lhpssa-membership-meeting-9/
END:VEVENT
END:VCALENDAR