BEGIN:VCALENDAR
VERSION:2.0
PRODID:-//LHPSSA - ECPv6.15.20//NONSGML v1.0//EN
CALSCALE:GREGORIAN
METHOD:PUBLISH
X-WR-CALNAME:LHPSSA
X-ORIGINAL-URL:https://lhpssa.org
X-WR-CALDESC:Events for LHPSSA
REFRESH-INTERVAL;VALUE=DURATION:PT1H
X-Robots-Tag:noindex
X-PUBLISHED-TTL:PT1H
BEGIN:VTIMEZONE
TZID:America/New_York
BEGIN:DAYLIGHT
TZOFFSETFROM:-0500
TZOFFSETTO:-0400
TZNAME:EDT
DTSTART:20260308T070000
END:DAYLIGHT
BEGIN:STANDARD
TZOFFSETFROM:-0400
TZOFFSETTO:-0500
TZNAME:EST
DTSTART:20261101T060000
END:STANDARD
BEGIN:DAYLIGHT
TZOFFSETFROM:-0500
TZOFFSETTO:-0400
TZNAME:EDT
DTSTART:20270314T070000
END:DAYLIGHT
BEGIN:STANDARD
TZOFFSETFROM:-0400
TZOFFSETTO:-0500
TZNAME:EST
DTSTART:20271107T060000
END:STANDARD
BEGIN:DAYLIGHT
TZOFFSETFROM:-0500
TZOFFSETTO:-0400
TZNAME:EDT
DTSTART:20280312T070000
END:DAYLIGHT
BEGIN:STANDARD
TZOFFSETFROM:-0400
TZOFFSETTO:-0500
TZNAME:EST
DTSTART:20281105T060000
END:STANDARD
BEGIN:DAYLIGHT
TZOFFSETFROM:-0500
TZOFFSETTO:-0400
TZNAME:EDT
DTSTART:20290311T070000
END:DAYLIGHT
BEGIN:STANDARD
TZOFFSETFROM:-0400
TZOFFSETTO:-0500
TZNAME:EST
DTSTART:20291104T060000
END:STANDARD
END:VTIMEZONE
BEGIN:VEVENT
DTSTART;TZID=America/New_York:20271208T180000
DTEND;TZID=America/New_York:20271208T200000
DTSTAMP:20260425T095744
CREATED:20260205T210655Z
LAST-MODIFIED:20260425T062443Z
UID:7256-1828288800-1828296000@lhpssa.org
SUMMARY:LHPSSA Happy Hour
DESCRIPTION:
URL:https://lhpssa.org/event/lhpssa-happy-hour-22/
END:VEVENT
BEGIN:VEVENT
DTSTART;TZID=America/New_York:20271229T180000
DTEND;TZID=America/New_York:20271229T210000
DTSTAMP:20260425T095744
CREATED:20260205T210655Z
LAST-MODIFIED:20260425T062443Z
UID:7257-1830103200-1830114000@lhpssa.org
SUMMARY:LHPSSA Membership Meeting
DESCRIPTION:
URL:https://lhpssa.org/event/lhpssa-membership-meeting-22/
END:VEVENT
BEGIN:VEVENT
DTSTART;TZID=America/New_York:20280105T180000
DTEND;TZID=America/New_York:20280105T200000
DTSTAMP:20260425T095744
CREATED:20260205T210655Z
LAST-MODIFIED:20260425T062444Z
UID:7258-1830708000-1830715200@lhpssa.org
SUMMARY:LHPSSA Board Meeting
DESCRIPTION:
URL:https://lhpssa.org/event/lhpssa-board-meeting-23/
END:VEVENT
BEGIN:VEVENT
DTSTART;TZID=America/New_York:20280112T180000
DTEND;TZID=America/New_York:20280112T200000
DTSTAMP:20260425T095744
CREATED:20260205T210655Z
LAST-MODIFIED:20260425T062444Z
UID:7259-1831312800-1831320000@lhpssa.org
SUMMARY:LHPSSA Happy Hour
DESCRIPTION:
URL:https://lhpssa.org/event/lhpssa-happy-hour-23/
END:VEVENT
BEGIN:VEVENT
DTSTART;TZID=America/New_York:20280126T180000
DTEND;TZID=America/New_York:20280126T210000
DTSTAMP:20260425T095744
CREATED:20260205T210655Z
LAST-MODIFIED:20260425T062444Z
UID:7260-1832522400-1832533200@lhpssa.org
SUMMARY:LHPSSA Membership Meeting
DESCRIPTION:
URL:https://lhpssa.org/event/lhpssa-membership-meeting-23/
END:VEVENT
BEGIN:VEVENT
DTSTART;TZID=America/New_York:20280202T180000
DTEND;TZID=America/New_York:20280202T200000
DTSTAMP:20260425T095744
CREATED:20260205T210655Z
LAST-MODIFIED:20260425T062444Z
UID:7261-1833127200-1833134400@lhpssa.org
SUMMARY:LHPSSA Board Meeting
DESCRIPTION:
URL:https://lhpssa.org/event/lhpssa-board-meeting-24/
END:VEVENT
BEGIN:VEVENT
DTSTART;TZID=America/New_York:20280209T180000
DTEND;TZID=America/New_York:20280209T200000
DTSTAMP:20260425T095744
CREATED:20260209T211622Z
LAST-MODIFIED:20260425T062444Z
UID:7360-1833732000-1833739200@lhpssa.org
SUMMARY:LHPSSA Happy Hour
DESCRIPTION:
URL:https://lhpssa.org/event/lhpssa-happy-hour-24/
END:VEVENT
BEGIN:VEVENT
DTSTART;TZID=America/New_York:20280223T180000
DTEND;TZID=America/New_York:20280223T210000
DTSTAMP:20260425T095744
CREATED:20260223T221631Z
LAST-MODIFIED:20260425T062444Z
UID:7395-1834941600-1834952400@lhpssa.org
SUMMARY:LHPSSA Membership Meeting
DESCRIPTION:
URL:https://lhpssa.org/event/lhpssa-membership-meeting-24/
END:VEVENT
BEGIN:VEVENT
DTSTART;TZID=America/New_York:20280301T180000
DTEND;TZID=America/New_York:20280301T200000
DTSTAMP:20260425T095744
CREATED:20260301T223147Z
LAST-MODIFIED:20260425T062444Z
UID:7406-1835546400-1835553600@lhpssa.org
SUMMARY:LHPSSA Board Meeting
DESCRIPTION:
URL:https://lhpssa.org/event/lhpssa-board-meeting-25/
END:VEVENT
BEGIN:VEVENT
DTSTART;TZID=America/New_York:20280308T180000
DTEND;TZID=America/New_York:20280308T200000
DTSTAMP:20260425T095744
CREATED:20260308T231614Z
LAST-MODIFIED:20260425T062444Z
UID:7415-1836151200-1836158400@lhpssa.org
SUMMARY:LHPSSA Happy Hour
DESCRIPTION:
URL:https://lhpssa.org/event/lhpssa-happy-hour-25/
END:VEVENT
BEGIN:VEVENT
DTSTART;TZID=America/New_York:20280329T180000
DTEND;TZID=America/New_York:20280329T210000
DTSTAMP:20260425T095744
CREATED:20260329T060240Z
LAST-MODIFIED:20260425T062444Z
UID:7433-1837965600-1837976400@lhpssa.org
SUMMARY:LHPSSA Membership Meeting
DESCRIPTION:
URL:https://lhpssa.org/event/lhpssa-membership-meeting-25/
END:VEVENT
BEGIN:VEVENT
DTSTART;TZID=America/New_York:20280405T180000
DTEND;TZID=America/New_York:20280405T200000
DTSTAMP:20260425T095744
CREATED:20260405T234501Z
LAST-MODIFIED:20260425T062444Z
UID:7458-1838570400-1838577600@lhpssa.org
SUMMARY:LHPSSA Board Meeting
DESCRIPTION:
URL:https://lhpssa.org/event/lhpssa-board-meeting-26/
END:VEVENT
BEGIN:VEVENT
DTSTART;TZID=America/New_York:20280412T180000
DTEND;TZID=America/New_York:20280412T200000
DTSTAMP:20260425T095744
CREATED:20260412T000011Z
LAST-MODIFIED:20260425T062444Z
UID:7468-1839175200-1839182400@lhpssa.org
SUMMARY:LHPSSA Happy Hour
DESCRIPTION:
URL:https://lhpssa.org/event/lhpssa-happy-hour-27/
END:VEVENT
END:VCALENDAR