BEGIN:VCALENDAR
VERSION:2.0
PRODID:-//LHPSSA - ECPv6.15.20//NONSGML v1.0//EN
CALSCALE:GREGORIAN
METHOD:PUBLISH
X-WR-CALNAME:LHPSSA
X-ORIGINAL-URL:https://lhpssa.org
X-WR-CALDESC:Events for LHPSSA
REFRESH-INTERVAL;VALUE=DURATION:PT1H
X-Robots-Tag:noindex
X-PUBLISHED-TTL:PT1H
BEGIN:VTIMEZONE
TZID:America/New_York
BEGIN:DAYLIGHT
TZOFFSETFROM:-0500
TZOFFSETTO:-0400
TZNAME:EDT
DTSTART:20250309T070000
END:DAYLIGHT
BEGIN:STANDARD
TZOFFSETFROM:-0400
TZOFFSETTO:-0500
TZNAME:EST
DTSTART:20251102T060000
END:STANDARD
BEGIN:DAYLIGHT
TZOFFSETFROM:-0500
TZOFFSETTO:-0400
TZNAME:EDT
DTSTART:20260308T070000
END:DAYLIGHT
BEGIN:STANDARD
TZOFFSETFROM:-0400
TZOFFSETTO:-0500
TZNAME:EST
DTSTART:20261101T060000
END:STANDARD
BEGIN:DAYLIGHT
TZOFFSETFROM:-0500
TZOFFSETTO:-0400
TZNAME:EDT
DTSTART:20270314T070000
END:DAYLIGHT
BEGIN:STANDARD
TZOFFSETFROM:-0400
TZOFFSETTO:-0500
TZNAME:EST
DTSTART:20271107T060000
END:STANDARD
END:VTIMEZONE
BEGIN:VEVENT
DTSTART;TZID=America/New_York:20260708T180000
DTEND;TZID=America/New_York:20260708T200000
DTSTAMP:20260425T120731
CREATED:20260205T210646Z
LAST-MODIFIED:20260425T062441Z
UID:7200-1783533600-1783540800@lhpssa.org
SUMMARY:LHPSSA Happy Hour
DESCRIPTION:
URL:https://lhpssa.org/event/lhpssa-happy-hour-5/
END:VEVENT
BEGIN:VEVENT
DTSTART;TZID=America/New_York:20260701T180000
DTEND;TZID=America/New_York:20260701T200000
DTSTAMP:20260425T120731
CREATED:20260205T210646Z
LAST-MODIFIED:20260425T062441Z
UID:7199-1782928800-1782936000@lhpssa.org
SUMMARY:LHPSSA Board Meeting
DESCRIPTION:
URL:https://lhpssa.org/event/lhpssa-board-meeting-5/
END:VEVENT
BEGIN:VEVENT
DTSTART;TZID=America/New_York:20260624T180000
DTEND;TZID=America/New_York:20260624T210000
DTSTAMP:20260425T120731
CREATED:20260205T210646Z
LAST-MODIFIED:20260425T062441Z
UID:7198-1782324000-1782334800@lhpssa.org
SUMMARY:LHPSSA Membership Meeting
DESCRIPTION:
URL:https://lhpssa.org/event/lhpssa-membership-meeting-5/
END:VEVENT
BEGIN:VEVENT
DTSTART;VALUE=DATE:20260613
DTEND;VALUE=DATE:20260614
DTSTAMP:20260425T120731
CREATED:20260205T210645Z
LAST-MODIFIED:20260425T062441Z
UID:7197-1781308800-1781395199@lhpssa.org
SUMMARY:Stiltsville Ralph Duey Memorial Fishing Tournament
DESCRIPTION:
URL:https://lhpssa.org/event/stiltsville-dolphin-tournament/
END:VEVENT
BEGIN:VEVENT
DTSTART;TZID=America/New_York:20260610T180000
DTEND;TZID=America/New_York:20260610T200000
DTSTAMP:20260425T120731
CREATED:20260205T210645Z
LAST-MODIFIED:20260425T062441Z
UID:7196-1781114400-1781121600@lhpssa.org
SUMMARY:LHPSSA Happy Hour
DESCRIPTION:
URL:https://lhpssa.org/event/lhpssa-happy-hour-4/
END:VEVENT
BEGIN:VEVENT
DTSTART;VALUE=DATE:20260604
DTEND;VALUE=DATE:20260606
DTSTAMP:20260425T120731
CREATED:20260205T210645Z
LAST-MODIFIED:20260425T062441Z
UID:7194-1780531200-1780703999@lhpssa.org
SUMMARY:LHPSSA Carrabelle Red Snapper Trip
DESCRIPTION:
URL:https://lhpssa.org/event/lhpssa-carrabelle-red-snapper-trip/
END:VEVENT
BEGIN:VEVENT
DTSTART;TZID=America/New_York:20260603T180000
DTEND;TZID=America/New_York:20260603T200000
DTSTAMP:20260425T120731
CREATED:20260205T210645Z
LAST-MODIFIED:20260425T062441Z
UID:7195-1780509600-1780516800@lhpssa.org
SUMMARY:LHPSSA Board Meeting
DESCRIPTION:
URL:https://lhpssa.org/event/lhpssa-board-meeting-4/
END:VEVENT
BEGIN:VEVENT
DTSTART;VALUE=DATE:20260530
DTEND;VALUE=DATE:20260531
DTSTAMP:20260425T120731
CREATED:20260401T232901Z
LAST-MODIFIED:20260425T062441Z
UID:7447-1780099200-1780185599@lhpssa.org
SUMMARY:LHPSSA Fort Pierce Inshore Annual Tournament
DESCRIPTION:
URL:https://lhpssa.org/event/lhpssa-fort-pierce-inshore-annual-tournament/
END:VEVENT
BEGIN:VEVENT
DTSTART;TZID=America/New_York:20260527T180000
DTEND;TZID=America/New_York:20260527T210000
DTSTAMP:20260425T120731
CREATED:20260205T210645Z
LAST-MODIFIED:20260425T062441Z
UID:7193-1779904800-1779915600@lhpssa.org
SUMMARY:LHPSSA Membership Meeting
DESCRIPTION:
URL:https://lhpssa.org/event/lhpssa-membership-meeting-4/
END:VEVENT
BEGIN:VEVENT
DTSTART;VALUE=DATE:20260521
DTEND;VALUE=DATE:20260522
DTSTAMP:20260425T120731
CREATED:20260205T210645Z
LAST-MODIFIED:20260425T062441Z
UID:7192-1779321600-1779407999@lhpssa.org
SUMMARY:LHPSSA Hat Tournament for Blackfin Tuna
DESCRIPTION:
URL:https://lhpssa.org/event/lhpssa-hat-tournament-for-blackfin-tuna/
END:VEVENT
BEGIN:VEVENT
DTSTART;TZID=America/New_York:20260513T180000
DTEND;TZID=America/New_York:20260513T200000
DTSTAMP:20260425T120731
CREATED:20260205T210645Z
LAST-MODIFIED:20260425T062441Z
UID:7191-1778695200-1778702400@lhpssa.org
SUMMARY:LHPSSA Happy Hour
DESCRIPTION:
URL:https://lhpssa.org/event/lhpssa-happy-hour-3/
END:VEVENT
BEGIN:VEVENT
DTSTART;TZID=America/New_York:20260506T180000
DTEND;TZID=America/New_York:20260506T200000
DTSTAMP:20260425T120731
CREATED:20260205T210644Z
LAST-MODIFIED:20260425T062441Z
UID:7190-1778090400-1778097600@lhpssa.org
SUMMARY:LHPSSA Board Meeting
DESCRIPTION:
URL:https://lhpssa.org/event/lhpssa-board-meeting-3/
END:VEVENT
BEGIN:VEVENT
DTSTART;TZID=America/New_York:20260429T180000
DTEND;TZID=America/New_York:20260429T210000
DTSTAMP:20260425T120731
CREATED:20260205T210644Z
LAST-MODIFIED:20260422T060947Z
UID:7189-1777485600-1777496400@lhpssa.org
SUMMARY:LHPSSA Membership Meeting
DESCRIPTION:
URL:https://lhpssa.org/event/lhpssa-membership-meeting-3/
END:VEVENT
BEGIN:VEVENT
DTSTART;VALUE=DATE:20260426
DTEND;VALUE=DATE:20260427
DTSTAMP:20260425T120731
CREATED:20260205T210644Z
LAST-MODIFIED:20260425T062441Z
UID:7188-1777161600-1777247999@lhpssa.org
SUMMARY:LHPSSA Hat Tournament for Sailfish/Meat Fish
DESCRIPTION:
URL:https://lhpssa.org/event/lhpssa-hat-tournament-for-sailfish-meat-fish/
END:VEVENT
BEGIN:VEVENT
DTSTART;TZID=America/New_York:20260415T180000
DTEND;TZID=America/New_York:20260415T200000
DTSTAMP:20260425T120731
CREATED:20260401T232900Z
LAST-MODIFIED:20260415T060307Z
UID:7446-1776276000-1776283200@lhpssa.org
SUMMARY:LHPSSA Happy Hour
DESCRIPTION:
URL:https://lhpssa.org/event/lhpssa-happy-hour-26/
END:VEVENT
BEGIN:VEVENT
DTSTART;VALUE=DATE:20260415
DTEND;VALUE=DATE:20260420
DTSTAMP:20260425T120731
CREATED:20260205T210644Z
LAST-MODIFIED:20260419T060137Z
UID:7187-1776211200-1776643199@lhpssa.org
SUMMARY:LHPSSA Venice Trip
DESCRIPTION:
URL:https://lhpssa.org/event/lhpssa-venice-trip/
END:VEVENT
BEGIN:VEVENT
DTSTART;VALUE=DATE:20260410
DTEND;VALUE=DATE:20260411
DTSTAMP:20260425T120731
CREATED:20260205T210642Z
LAST-MODIFIED:20260410T234806Z
UID:7172-1775779200-1775865599@lhpssa.org
SUMMARY:LHPSSA Annual Awards Ceremony
DESCRIPTION:
URL:https://lhpssa.org/event/lhpssa-annual-awards-ceremony/
END:VEVENT
BEGIN:VEVENT
DTSTART;VALUE=DATE:20260408
DTEND;VALUE=DATE:20260409
DTSTAMP:20260425T120731
CREATED:20260205T210644Z
LAST-MODIFIED:20260408T234548Z
UID:7186-1775606400-1775692799@lhpssa.org
SUMMARY:LHPSSA Drift Boat Trip
DESCRIPTION:
URL:https://lhpssa.org/event/lhpssa-drift-boat-trip/
END:VEVENT
BEGIN:VEVENT
DTSTART;VALUE=DATE:20260404
DTEND;VALUE=DATE:20260407
DTSTAMP:20260425T120731
CREATED:20260205T210642Z
LAST-MODIFIED:20260406T234736Z
UID:7175-1775260800-1775519999@lhpssa.org
SUMMARY:LHPSSA Lucaya Yellowfin Tuna Trip --Cancelled\, New Date TBD--
DESCRIPTION:
URL:https://lhpssa.org/event/lhpssa-lucaya-yellowfin-tuna-trip/
END:VEVENT
BEGIN:VEVENT
DTSTART;TZID=America/New_York:20260401T180000
DTEND;TZID=America/New_York:20260401T200000
DTSTAMP:20260425T120731
CREATED:20260205T210642Z
LAST-MODIFIED:20260401T234610Z
UID:7174-1775066400-1775073600@lhpssa.org
SUMMARY:LHPSSA Board Meeting
DESCRIPTION:
URL:https://lhpssa.org/event/lhpssa-board-meeting-2/
END:VEVENT
BEGIN:VEVENT
DTSTART;VALUE=DATE:20260329
DTEND;VALUE=DATE:20260330
DTSTAMP:20260425T120731
CREATED:20260205T210642Z
LAST-MODIFIED:20260329T060236Z
UID:7173-1774742400-1774828799@lhpssa.org
SUMMARY:LHPSSA Lobster Dive & Raft Up
DESCRIPTION:
URL:https://lhpssa.org/event/lhpssa-lobster-dive-raft-up/
END:VEVENT
BEGIN:VEVENT
DTSTART;TZID=America/New_York:20260325T180000
DTEND;TZID=America/New_York:20260325T210000
DTSTAMP:20260425T120731
CREATED:20260205T210642Z
LAST-MODIFIED:20260320T135213Z
UID:7171-1774461600-1774472400@lhpssa.org
SUMMARY:LHPSSA Membership Meeting
DESCRIPTION:
URL:https://lhpssa.org/event/lhpssa-membership-meeting-2/
END:VEVENT
BEGIN:VEVENT
DTSTART;VALUE=DATE:20260321
DTEND;VALUE=DATE:20260322
DTSTAMP:20260425T120731
CREATED:20260205T210642Z
LAST-MODIFIED:20260320T135214Z
UID:7170-1774051200-1774137599@lhpssa.org
SUMMARY:LHPSSA Sailfish/Meat Fish Tournament
DESCRIPTION:
URL:https://lhpssa.org/event/lhpssa-sailfish-meat-fish-tournament/
END:VEVENT
BEGIN:VEVENT
DTSTART;TZID=America/New_York:20260311T180000
DTEND;TZID=America/New_York:20260311T200000
DTSTAMP:20260425T120731
CREATED:20260205T210641Z
LAST-MODIFIED:20260320T135214Z
UID:7169-1773252000-1773259200@lhpssa.org
SUMMARY:LHPSSA Happy Hour
DESCRIPTION:
URL:https://lhpssa.org/event/lhpssa-happy-hour-2/
END:VEVENT
BEGIN:VEVENT
DTSTART;TZID=America/New_York:20260304T180000
DTEND;TZID=America/New_York:20260304T200000
DTSTAMP:20260425T120731
CREATED:20260205T210641Z
LAST-MODIFIED:20260320T135214Z
UID:7168-1772647200-1772654400@lhpssa.org
SUMMARY:LHPSSA Board Meeting
DESCRIPTION:
URL:https://lhpssa.org/event/lhpssa-board-meeting/
END:VEVENT
BEGIN:VEVENT
DTSTART;TZID=America/New_York:20260225T180000
DTEND;TZID=America/New_York:20260225T210000
DTSTAMP:20260425T120731
CREATED:20260205T210641Z
LAST-MODIFIED:20260320T135214Z
UID:7167-1772042400-1772053200@lhpssa.org
SUMMARY:LHPSSA Membership Meeting
DESCRIPTION:
URL:https://lhpssa.org/event/lhpssa-membership-meeting/
END:VEVENT
BEGIN:VEVENT
DTSTART;TZID=America/New_York:20260211T180000
DTEND;TZID=America/New_York:20260211T200000
DTSTAMP:20260425T120731
CREATED:20260205T210641Z
LAST-MODIFIED:20260320T135214Z
UID:7166-1770832800-1770840000@lhpssa.org
SUMMARY:LHPSSA Happy Hour
DESCRIPTION:
URL:https://lhpssa.org/event/lhpssa-happy-hour/
END:VEVENT
END:VCALENDAR