BEGIN:VCALENDAR
VERSION:2.0
PRODID:-//LHPSSA - ECPv6.15.20//NONSGML v1.0//EN
CALSCALE:GREGORIAN
METHOD:PUBLISH
X-WR-CALNAME:LHPSSA
X-ORIGINAL-URL:https://lhpssa.org
X-WR-CALDESC:Events for LHPSSA
REFRESH-INTERVAL;VALUE=DURATION:PT1H
X-Robots-Tag:noindex
X-PUBLISHED-TTL:PT1H
BEGIN:VTIMEZONE
TZID:America/New_York
BEGIN:DAYLIGHT
TZOFFSETFROM:-0500
TZOFFSETTO:-0400
TZNAME:EDT
DTSTART:20260308T070000
END:DAYLIGHT
BEGIN:STANDARD
TZOFFSETFROM:-0400
TZOFFSETTO:-0500
TZNAME:EST
DTSTART:20261101T060000
END:STANDARD
BEGIN:DAYLIGHT
TZOFFSETFROM:-0500
TZOFFSETTO:-0400
TZNAME:EDT
DTSTART:20270314T070000
END:DAYLIGHT
BEGIN:STANDARD
TZOFFSETFROM:-0400
TZOFFSETTO:-0500
TZNAME:EST
DTSTART:20271107T060000
END:STANDARD
BEGIN:DAYLIGHT
TZOFFSETFROM:-0500
TZOFFSETTO:-0400
TZNAME:EDT
DTSTART:20280312T070000
END:DAYLIGHT
BEGIN:STANDARD
TZOFFSETFROM:-0400
TZOFFSETTO:-0500
TZNAME:EST
DTSTART:20281105T060000
END:STANDARD
END:VTIMEZONE
BEGIN:VEVENT
DTSTART;TZID=America/New_York:20270203T180000
DTEND;TZID=America/New_York:20270203T200000
DTSTAMP:20260425T073838
CREATED:20260205T210650Z
LAST-MODIFIED:20260425T062442Z
UID:7225-1801677600-1801684800@lhpssa.org
SUMMARY:LHPSSA Board Meeting
DESCRIPTION:
URL:https://lhpssa.org/event/lhpssa-board-meeting-12/
END:VEVENT
BEGIN:VEVENT
DTSTART;TZID=America/New_York:20270210T180000
DTEND;TZID=America/New_York:20270210T200000
DTSTAMP:20260425T073838
CREATED:20260205T210650Z
LAST-MODIFIED:20260425T062442Z
UID:7226-1802282400-1802289600@lhpssa.org
SUMMARY:LHPSSA Happy Hour
DESCRIPTION:
URL:https://lhpssa.org/event/lhpssa-happy-hour-12/
END:VEVENT
BEGIN:VEVENT
DTSTART;TZID=America/New_York:20270224T180000
DTEND;TZID=America/New_York:20270224T210000
DTSTAMP:20260425T073838
CREATED:20260205T210650Z
LAST-MODIFIED:20260425T062442Z
UID:7227-1803492000-1803502800@lhpssa.org
SUMMARY:LHPSSA Membership Meeting
DESCRIPTION:
URL:https://lhpssa.org/event/lhpssa-membership-meeting-12/
END:VEVENT
BEGIN:VEVENT
DTSTART;TZID=America/New_York:20270303T180000
DTEND;TZID=America/New_York:20270303T200000
DTSTAMP:20260425T073838
CREATED:20260205T210650Z
LAST-MODIFIED:20260425T062442Z
UID:7228-1804096800-1804104000@lhpssa.org
SUMMARY:LHPSSA Board Meeting
DESCRIPTION:
URL:https://lhpssa.org/event/lhpssa-board-meeting-13/
END:VEVENT
BEGIN:VEVENT
DTSTART;TZID=America/New_York:20270310T180000
DTEND;TZID=America/New_York:20270310T200000
DTSTAMP:20260425T073838
CREATED:20260205T210650Z
LAST-MODIFIED:20260425T062442Z
UID:7229-1804701600-1804708800@lhpssa.org
SUMMARY:LHPSSA Happy Hour
DESCRIPTION:
URL:https://lhpssa.org/event/lhpssa-happy-hour-13/
END:VEVENT
BEGIN:VEVENT
DTSTART;TZID=America/New_York:20270331T180000
DTEND;TZID=America/New_York:20270331T210000
DTSTAMP:20260425T073838
CREATED:20260205T210650Z
LAST-MODIFIED:20260425T062442Z
UID:7230-1806516000-1806526800@lhpssa.org
SUMMARY:LHPSSA Membership Meeting
DESCRIPTION:
URL:https://lhpssa.org/event/lhpssa-membership-meeting-13/
END:VEVENT
BEGIN:VEVENT
DTSTART;TZID=America/New_York:20270407T180000
DTEND;TZID=America/New_York:20270407T200000
DTSTAMP:20260425T073838
CREATED:20260205T210650Z
LAST-MODIFIED:20260425T062442Z
UID:7231-1807120800-1807128000@lhpssa.org
SUMMARY:LHPSSA Board Meeting
DESCRIPTION:
URL:https://lhpssa.org/event/lhpssa-board-meeting-14/
END:VEVENT
BEGIN:VEVENT
DTSTART;TZID=America/New_York:20270414T180000
DTEND;TZID=America/New_York:20270414T200000
DTSTAMP:20260425T073838
CREATED:20260205T210651Z
LAST-MODIFIED:20260425T062442Z
UID:7232-1807725600-1807732800@lhpssa.org
SUMMARY:LHPSSA Happy Hour
DESCRIPTION:
URL:https://lhpssa.org/event/lhpssa-happy-hour-14/
END:VEVENT
BEGIN:VEVENT
DTSTART;TZID=America/New_York:20270428T180000
DTEND;TZID=America/New_York:20270428T210000
DTSTAMP:20260425T073838
CREATED:20260205T210651Z
LAST-MODIFIED:20260425T062442Z
UID:7233-1808935200-1808946000@lhpssa.org
SUMMARY:LHPSSA Membership Meeting
DESCRIPTION:
URL:https://lhpssa.org/event/lhpssa-membership-meeting-14/
END:VEVENT
BEGIN:VEVENT
DTSTART;TZID=America/New_York:20270505T180000
DTEND;TZID=America/New_York:20270505T200000
DTSTAMP:20260425T073838
CREATED:20260205T210651Z
LAST-MODIFIED:20260425T062442Z
UID:7234-1809540000-1809547200@lhpssa.org
SUMMARY:LHPSSA Board Meeting
DESCRIPTION:
URL:https://lhpssa.org/event/lhpssa-board-meeting-15/
END:VEVENT
BEGIN:VEVENT
DTSTART;TZID=America/New_York:20270512T180000
DTEND;TZID=America/New_York:20270512T200000
DTSTAMP:20260425T073838
CREATED:20260205T210651Z
LAST-MODIFIED:20260425T062443Z
UID:7235-1810144800-1810152000@lhpssa.org
SUMMARY:LHPSSA Happy Hour
DESCRIPTION:
URL:https://lhpssa.org/event/lhpssa-happy-hour-15/
END:VEVENT
BEGIN:VEVENT
DTSTART;TZID=America/New_York:20270526T180000
DTEND;TZID=America/New_York:20270526T210000
DTSTAMP:20260425T073838
CREATED:20260205T210651Z
LAST-MODIFIED:20260425T062443Z
UID:7236-1811354400-1811365200@lhpssa.org
SUMMARY:LHPSSA Membership Meeting
DESCRIPTION:
URL:https://lhpssa.org/event/lhpssa-membership-meeting-15/
END:VEVENT
BEGIN:VEVENT
DTSTART;TZID=America/New_York:20270602T180000
DTEND;TZID=America/New_York:20270602T200000
DTSTAMP:20260425T073838
CREATED:20260205T210651Z
LAST-MODIFIED:20260425T062443Z
UID:7237-1811959200-1811966400@lhpssa.org
SUMMARY:LHPSSA Board Meeting
DESCRIPTION:
URL:https://lhpssa.org/event/lhpssa-board-meeting-16/
END:VEVENT
BEGIN:VEVENT
DTSTART;TZID=America/New_York:20270609T180000
DTEND;TZID=America/New_York:20270609T200000
DTSTAMP:20260425T073838
CREATED:20260205T210652Z
LAST-MODIFIED:20260425T062443Z
UID:7238-1812564000-1812571200@lhpssa.org
SUMMARY:LHPSSA Happy Hour
DESCRIPTION:
URL:https://lhpssa.org/event/lhpssa-happy-hour-16/
END:VEVENT
BEGIN:VEVENT
DTSTART;TZID=America/New_York:20270630T180000
DTEND;TZID=America/New_York:20270630T210000
DTSTAMP:20260425T073838
CREATED:20260205T210652Z
LAST-MODIFIED:20260425T062443Z
UID:7239-1814378400-1814389200@lhpssa.org
SUMMARY:LHPSSA Membership Meeting
DESCRIPTION:
URL:https://lhpssa.org/event/lhpssa-membership-meeting-16/
END:VEVENT
BEGIN:VEVENT
DTSTART;TZID=America/New_York:20270707T180000
DTEND;TZID=America/New_York:20270707T200000
DTSTAMP:20260425T073838
CREATED:20260205T210652Z
LAST-MODIFIED:20260425T062443Z
UID:7240-1814983200-1814990400@lhpssa.org
SUMMARY:LHPSSA Board Meeting
DESCRIPTION:
URL:https://lhpssa.org/event/lhpssa-board-meeting-17/
END:VEVENT
BEGIN:VEVENT
DTSTART;TZID=America/New_York:20270714T180000
DTEND;TZID=America/New_York:20270714T200000
DTSTAMP:20260425T073838
CREATED:20260205T210652Z
LAST-MODIFIED:20260425T062443Z
UID:7241-1815588000-1815595200@lhpssa.org
SUMMARY:LHPSSA Happy Hour
DESCRIPTION:
URL:https://lhpssa.org/event/lhpssa-happy-hour-17/
END:VEVENT
BEGIN:VEVENT
DTSTART;TZID=America/New_York:20270728T180000
DTEND;TZID=America/New_York:20270728T210000
DTSTAMP:20260425T073838
CREATED:20260205T210652Z
LAST-MODIFIED:20260425T062443Z
UID:7242-1816797600-1816808400@lhpssa.org
SUMMARY:LHPSSA Membership Meeting
DESCRIPTION:
URL:https://lhpssa.org/event/lhpssa-membership-meeting-17/
END:VEVENT
BEGIN:VEVENT
DTSTART;TZID=America/New_York:20270804T180000
DTEND;TZID=America/New_York:20270804T200000
DTSTAMP:20260425T073838
CREATED:20260205T210652Z
LAST-MODIFIED:20260425T062443Z
UID:7243-1817402400-1817409600@lhpssa.org
SUMMARY:LHPSSA Board Meeting
DESCRIPTION:
URL:https://lhpssa.org/event/lhpssa-board-meeting-18/
END:VEVENT
BEGIN:VEVENT
DTSTART;TZID=America/New_York:20270811T180000
DTEND;TZID=America/New_York:20270811T200000
DTSTAMP:20260425T073838
CREATED:20260205T210653Z
LAST-MODIFIED:20260425T062443Z
UID:7244-1818007200-1818014400@lhpssa.org
SUMMARY:LHPSSA Happy Hour
DESCRIPTION:
URL:https://lhpssa.org/event/lhpssa-happy-hour-18/
END:VEVENT
BEGIN:VEVENT
DTSTART;TZID=America/New_York:20270825T180000
DTEND;TZID=America/New_York:20270825T210000
DTSTAMP:20260425T073838
CREATED:20260205T210653Z
LAST-MODIFIED:20260425T062443Z
UID:7245-1819216800-1819227600@lhpssa.org
SUMMARY:LHPSSA Membership Meeting
DESCRIPTION:
URL:https://lhpssa.org/event/lhpssa-membership-meeting-18/
END:VEVENT
BEGIN:VEVENT
DTSTART;TZID=America/New_York:20270901T180000
DTEND;TZID=America/New_York:20270901T200000
DTSTAMP:20260425T073838
CREATED:20260205T210653Z
LAST-MODIFIED:20260425T062443Z
UID:7246-1819821600-1819828800@lhpssa.org
SUMMARY:LHPSSA Board Meeting
DESCRIPTION:
URL:https://lhpssa.org/event/lhpssa-board-meeting-19/
END:VEVENT
BEGIN:VEVENT
DTSTART;TZID=America/New_York:20270908T180000
DTEND;TZID=America/New_York:20270908T200000
DTSTAMP:20260425T073838
CREATED:20260205T210653Z
LAST-MODIFIED:20260425T062443Z
UID:7247-1820426400-1820433600@lhpssa.org
SUMMARY:LHPSSA Happy Hour
DESCRIPTION:
URL:https://lhpssa.org/event/lhpssa-happy-hour-19/
END:VEVENT
BEGIN:VEVENT
DTSTART;TZID=America/New_York:20270929T180000
DTEND;TZID=America/New_York:20270929T210000
DTSTAMP:20260425T073838
CREATED:20260205T210653Z
LAST-MODIFIED:20260425T062443Z
UID:7248-1822240800-1822251600@lhpssa.org
SUMMARY:LHPSSA Membership Meeting
DESCRIPTION:
URL:https://lhpssa.org/event/lhpssa-membership-meeting-19/
END:VEVENT
BEGIN:VEVENT
DTSTART;TZID=America/New_York:20271006T180000
DTEND;TZID=America/New_York:20271006T200000
DTSTAMP:20260425T073838
CREATED:20260205T210653Z
LAST-MODIFIED:20260425T062443Z
UID:7249-1822845600-1822852800@lhpssa.org
SUMMARY:LHPSSA Board Meeting
DESCRIPTION:
URL:https://lhpssa.org/event/lhpssa-board-meeting-20/
END:VEVENT
BEGIN:VEVENT
DTSTART;TZID=America/New_York:20271013T180000
DTEND;TZID=America/New_York:20271013T200000
DTSTAMP:20260425T073838
CREATED:20260205T210654Z
LAST-MODIFIED:20260425T062443Z
UID:7250-1823450400-1823457600@lhpssa.org
SUMMARY:LHPSSA Happy Hour
DESCRIPTION:
URL:https://lhpssa.org/event/lhpssa-happy-hour-20/
END:VEVENT
BEGIN:VEVENT
DTSTART;TZID=America/New_York:20271027T180000
DTEND;TZID=America/New_York:20271027T210000
DTSTAMP:20260425T073838
CREATED:20260205T210654Z
LAST-MODIFIED:20260425T062443Z
UID:7251-1824660000-1824670800@lhpssa.org
SUMMARY:LHPSSA Membership Meeting
DESCRIPTION:
URL:https://lhpssa.org/event/lhpssa-membership-meeting-20/
END:VEVENT
BEGIN:VEVENT
DTSTART;TZID=America/New_York:20271103T180000
DTEND;TZID=America/New_York:20271103T200000
DTSTAMP:20260425T073838
CREATED:20260205T210654Z
LAST-MODIFIED:20260425T062443Z
UID:7252-1825264800-1825272000@lhpssa.org
SUMMARY:LHPSSA Board Meeting
DESCRIPTION:
URL:https://lhpssa.org/event/lhpssa-board-meeting-21/
END:VEVENT
BEGIN:VEVENT
DTSTART;TZID=America/New_York:20271110T180000
DTEND;TZID=America/New_York:20271110T200000
DTSTAMP:20260425T073838
CREATED:20260205T210654Z
LAST-MODIFIED:20260425T062443Z
UID:7253-1825869600-1825876800@lhpssa.org
SUMMARY:LHPSSA Happy Hour
DESCRIPTION:
URL:https://lhpssa.org/event/lhpssa-happy-hour-21/
END:VEVENT
BEGIN:VEVENT
DTSTART;TZID=America/New_York:20271124T180000
DTEND;TZID=America/New_York:20271124T210000
DTSTAMP:20260425T073838
CREATED:20260205T210654Z
LAST-MODIFIED:20260425T062443Z
UID:7254-1827079200-1827090000@lhpssa.org
SUMMARY:LHPSSA Membership Meeting
DESCRIPTION:
URL:https://lhpssa.org/event/lhpssa-membership-meeting-21/
END:VEVENT
END:VCALENDAR